BEGIN:VCALENDAR
VERSION:2.0
PRODID:-//Mundo Verde Climate - ECPv6.0.9//NONSGML v1.0//EN
CALSCALE:GREGORIAN
METHOD:PUBLISH
X-WR-CALNAME:Mundo Verde Climate
X-ORIGINAL-URL:https://mv-climate.com
X-WR-CALDESC:Events for Mundo Verde Climate
REFRESH-INTERVAL;VALUE=DURATION:PT1H
X-Robots-Tag:noindex
X-PUBLISHED-TTL:PT1H
BEGIN:VTIMEZONE
TZID:UTC
BEGIN:STANDARD
TZOFFSETFROM:+0000
TZOFFSETTO:+0000
TZNAME:UTC
DTSTART:20230101T000000
END:STANDARD
END:VTIMEZONE
BEGIN:VEVENT
DTSTART;VALUE=DATE:20230209
DTEND;VALUE=DATE:20230211
DTSTAMP:20260421T030144
CREATED:20230119T120000Z
LAST-MODIFIED:20230203T101854Z
UID:10800-1675900800-1676073599@mv-climate.com
SUMMARY:The 7th International Conference on Climate Change (ICCC 2023)
DESCRIPTION:The 7th International Conference on Climate Change 2023 (ICCC 2023) will take place on\n9-10 February 2023 in Colombo\, Sri Lanka. ICCC 2023 unites diverse research\, innovations and case studies from all over the world in parallel sessions while offering many networking and publishing opportunities. The purpose of the ICCC 2023 is to provide a focal forum to share the latest research findings\, knowledge\, opinions\, suggestions and vision\, while also providing a variety of interactive platforms.
URL:https://mv-climate.com/event/the-7th-international-conference-on-climate-change-iccc-2023/
LOCATION:Colombo\, Sri Lanka
CATEGORIES:Climate
ATTACH;FMTTYPE=image/jpeg:https://mv-climate.com/wp-content/uploads/2023/01/The-7th-International-Conference-on-Climate-Change-ICCC-2023.jpg
END:VEVENT
BEGIN:VEVENT
DTSTART;VALUE=DATE:20230203
DTEND;VALUE=DATE:20230210
DTSTAMP:20260421T030144
CREATED:20230119T130000Z
LAST-MODIFIED:20230203T101758Z
UID:10801-1675382400-1675987199@mv-climate.com
SUMMARY:International Marine Protected Areas Congress
DESCRIPTION:From 3-9 February 2023\, the world’s leading ocean conservation professionals will meet in Vancouver\, Canada to chart a course towards protecting 30 percent of the global ocean by 2030. International Marine Protected Areas Congress (IMPAC) is an opportunity for the global community of marine conservation managers and practitioners to exchange knowledge\, experience and best practices to strengthen the conservation of marine biodiversity and to protect the natural and cultural heritage of the ocean.
URL:https://mv-climate.com/event/international-marine-protected-areas-congress/
LOCATION:Vancouver\, Canada
CATEGORIES:Environment
ATTACH;FMTTYPE=image/jpeg:https://mv-climate.com/wp-content/uploads/2023/01/International-Marine-Protected-Areas-Congress.jpg
END:VEVENT
BEGIN:VEVENT
DTSTART;VALUE=DATE:20230131
DTEND;VALUE=DATE:20230201
DTSTAMP:20260421T030144
CREATED:20230119T145820Z
LAST-MODIFIED:20230120T130940Z
UID:13842-1675123200-1675209599@mv-climate.com
SUMMARY:ECOSOC Partnership Forum 2023
DESCRIPTION:The 2023 Partnership Forum of the Economic and Social Council (ECOSOC) will be held on Tuesday\, 31 January 2023\, from 9:00 am to 5:45 pm (EDT)\, back-to-back with the Council’s Coordination Segment\, at the United Nations headquarters in New York. \nUnder the main theme of the 2023 ECOSOC and the High-level Political Forum on Sustainable Development (HLPF)\, “Accelerating the recovery from the coronavirus disease (COVID-19) and the full implementation of the 2030 Agenda for Sustainable Development at all levels”\, the 2023 ECOSOC Partnership Forum will bring together UN Member States and stakeholders – from civil society\, the private sector\, scientists\, women\, youth\, local governments and many others – to discuss innovative efforts that are driving action on the UN Sustainable Development Goals (SDGs) and to highlight the contributions that partnerships can make in this regard. \nAn analytical summary will be prepared to capture the key policy messages of the Forum along with the messages of the Coordination Segment\, which will serve as an input to the July 2023 HLPF and the 2023 SDG Summit as well as the overall work of the ECOSOC and other key inter-governmental processes throughout 2023.
URL:https://mv-climate.com/event/ecosoc-partnership-forum-2023/
LOCATION:New York\, NY\, United States
CATEGORIES:Partnership
ATTACH;FMTTYPE=image/png:https://mv-climate.com/wp-content/uploads/2023/01/Ecosoc.png
END:VEVENT
BEGIN:VEVENT
DTSTART;VALUE=DATE:20230123
DTEND;VALUE=DATE:20230126
DTSTAMP:20260421T030144
CREATED:20230120T000000Z
LAST-MODIFIED:20230120T130913Z
UID:10805-1674432000-1674691199@mv-climate.com
SUMMARY:2023 European Energy Transition Conference
DESCRIPTION:2023 European Energy Transition Conference will be held in Bordeaux\nThe European Energy Transition Conference is a key annual event for stakeholders involved in the energy transition at local level since 1999. Each year\, it gathers more than 3\,500 participants: local authorities\, scientists and experts in the ecological transition\, economic players and associations\, and students for three days of debates and meetings. \nThe program includes more than 130 events: plenary sessions\, round tables\, interviews\, testimonies\, workshops and site visits\, to meet\, exchange\, share and get inspired. \n 
URL:https://mv-climate.com/event/2023-european-energy-transition-conference/
LOCATION:Bordeaux\, France
CATEGORIES:Energy
ATTACH;FMTTYPE=image/png:https://mv-climate.com/wp-content/uploads/2023/01/2023_European_Energy.png
END:VEVENT
END:VCALENDAR