BEGIN:VCALENDAR
VERSION:2.0
PRODID:-//Mundo Verde Climate - ECPv6.0.9//NONSGML v1.0//EN
CALSCALE:GREGORIAN
METHOD:PUBLISH
X-ORIGINAL-URL:https://mv-climate.com
X-WR-CALDESC:Events for Mundo Verde Climate
REFRESH-INTERVAL;VALUE=DURATION:PT1H
X-Robots-Tag:noindex
X-PUBLISHED-TTL:PT1H
BEGIN:VTIMEZONE
TZID:UTC
BEGIN:STANDARD
TZOFFSETFROM:+0000
TZOFFSETTO:+0000
TZNAME:UTC
DTSTART:20230101T000000
END:STANDARD
END:VTIMEZONE
BEGIN:VEVENT
DTSTART;VALUE=DATE:20230303
DTEND;VALUE=DATE:20230310
DTSTAMP:20260420T114108
CREATED:20230120T113827Z
LAST-MODIFIED:20230203T102020Z
UID:16178-1677801600-1678406399@mv-climate.com
SUMMARY:United Nations Conference on Least Developed Nations (UNLDC)
DESCRIPTION:United Nations Conference of the Least Developed Countries is an opportunity that occurs every ten years to accelerate sustainable development in the places with the greatest need for international assistance for aid to Least Developed Countries so they can make progress on their path to prosperity. The conference will take place from 3 to 9 March 2023\, in Doha. \n 
URL:https://mv-climate.com/event/united-nations-conference-on-least-developed-nations-unldc-2/
LOCATION:Doha\, Qatar
CATEGORIES:The Least Developed Countries
ATTACH;FMTTYPE=image/jpeg:https://mv-climate.com/wp-content/uploads/2023/01/United-Nations-Conference-on-Least-Developed-Nations-UNLDC.jpg
END:VEVENT
END:VCALENDAR