BEGIN:VCALENDAR
VERSION:2.0
PRODID:-//Mundo Verde Climate - ECPv6.0.9//NONSGML v1.0//EN
CALSCALE:GREGORIAN
METHOD:PUBLISH
X-ORIGINAL-URL:https://mv-climate.com
X-WR-CALDESC:Events for Mundo Verde Climate
REFRESH-INTERVAL;VALUE=DURATION:PT1H
X-Robots-Tag:noindex
X-PUBLISHED-TTL:PT1H
BEGIN:VTIMEZONE
TZID:UTC
BEGIN:STANDARD
TZOFFSETFROM:+0000
TZOFFSETTO:+0000
TZNAME:UTC
DTSTART:20230101T000000
END:STANDARD
END:VTIMEZONE
BEGIN:VEVENT
DTSTART;VALUE=DATE:20230414
DTEND;VALUE=DATE:20230417
DTSTAMP:20260426T005015
CREATED:20230120T120451Z
LAST-MODIFIED:20230203T102200Z
UID:16190-1681430400-1681689599@mv-climate.com
SUMMARY:The 3rd Asia Environment Pollution and Prevention Conference (AEPP 2023)
DESCRIPTION:The 3rd Asia Environment Pollution and Prevention Conference (AEPP 2023) will be held in Tai’an\, Shandong\, China from April 14-16 2023 with the theme of “Environment Pollution and Prevention”. AEPP 2023 is one of the leading international conferences for presenting novel and fundamental advances in the fields of Environment Pollution and Prevention. It also serves to foster communication among researchers and practitioners working in a wide variety of scientific areas with a common interest in improving Environment Pollution and Prevention related techniques.
URL:https://mv-climate.com/event/the-3rd-asia-environment-pollution-and-prevention-conference-aepp-2023/
LOCATION:Tai’an\, China
CATEGORIES:Environment
ATTACH;FMTTYPE=image/png:https://mv-climate.com/wp-content/uploads/2023/01/AEPP2023.png
END:VEVENT
END:VCALENDAR